{"text_format":"1","workbook":"xlsx","n_sheets":2,"sheets":["Chart","Data"],"not_rendered":{"charts":1,"images":0,"macros":1,"external_links":0,"defined_names":0,"comments":0,"pivot_tables":0},"unopened":[],"bounds":{"document_bytes":16777216,"sheet_cells":100000,"rows_first":2000,"rows_last":500,"rows_between":2000,"halvings":0,"cell_chars":16384,"cell_head_chars":4096},"cells_cut":0,"cells_raw":0,"read":"whole","date_system":"1900"}

{"sheet":"Chart","index":0,"n_rows":22,"n_cols":4,"rows_kept":22,"cut":false,"hidden":false,"merged":[]}
[]
[]
[]
[]
[]
[]
[]
[]
[]
[]
[]
[]
[]
[]
[]
[]
[]
[]
[]
[]
["Starting Deer:",300,"Year 1st Wolf Arrives:",40]
["Starting Resources:",700,"Recalculate:",{"$f":"NOW()","v":"2019-04-17T16:22:48.360"}]

{"sheet":"Data","index":1,"n_rows":103,"n_cols":28,"rows_kept":103,"cut":false,"hidden":false,"merged":[[0,4,0,6],[0,19,0,21],[0,7,0,9],[0,23,0,24],[0,1,0,3],[0,12,0,14],[0,10,0,11],[0,15,0,16]]}
[null,"Population Count",null,null,"Deer seeking:",null,null,"Types of Resources",null,null,"Deer",null,"Wolves eating",null,null,"Wolves",null,"Deer","New","Remaining Resources",null,null,"Types","Special Events Switches",null,"New","Check","Check"]
["Year No","Deer","Resources","Wolves","Water","Shelter","Food","Water","Shelter","Food","Survive","Die","Dead","Hunted","Total","Dead","Live","Live","Resources","Water","Shelter","Food","of Habitat","Drought","Hurricane","Wolves","Starting","Ending"]
[0,{"$f":"Chart!B21","v":300},{"$f":"Chart!B22","v":700},{"$f":"Z3","v":0},{"$f":"INT(RANDBETWEEN(B3*0.25,B3*0.75))","v":85},{"$f":"INT(RANDBETWEEN((B3-E3)*0.1,(B3-E3)*0.9))","v":49},{"$f":"B3-E3-F3","v":166},{"$f":"INT(RANDBETWEEN(C3*0.25,C3*0.75))*(1-X3)","v":181},{"$f":"INT(RANDBETWEEN((C3-H3)*0.1,(C3-H3)*0.9))*(1-Y3)","v":428},{"$f":"C3-H3-I3","v":91},{"$f":"MIN(E3,H3)+MIN(F3,I3)+MIN(G3,J3)","v":225},{"$f":"B3-K3","v":75},{"$f":"MIN(D3,L3)","v":0},{"$f":"RANDBETWEEN(MIN(D3-M3,K3)*0.5,MIN(D3-M3,K3)*0.75)","v":0},{"$f":"MIN(D3,N3+L3)","v":0},{"$f":"MAX(D3-O3,0)","v":0},{"$f":"O3+D3-P3","v":0},{"$f":"B3+K3-L3-N3","v":450},{"$f":"L3-M3+P3","v":75},{"$f":"MAX(H3-E3,0)","v":96},379,0,3,0,0,{"$f":"IF(Chart!$D$21=A3,1,0)","v":0},{"$f":"B3+C3+D3","v":1000},{"$f":"SUM(Q3:V3)","v":1000}]
[{"$f":"A3+1","v":1},{"$f":"R3","v":450},{"$f":"SUM(S3:V3)-Z4","v":550},{"$f":"Q3+Z4","v":0},272,152,26,149,93,308,268,182,0,0,0,0,0,536,182,{"$f":"MAX(H4-E4,0)","v":0},0,282,3,0,0,{"$f":"IF(Chart!$D$21=A4,1,0)","v":0},1000,1000]
[{"$f":"A4+1","v":2},536,464,0,216,283,37,314,24,126,277,259,0,0,0,0,0,554,259,{"$f":"MAX(H5-E5,0)","v":98},0,89,3,0,0,{"$f":"IF(Chart!$D$21=A5,1,0)","v":0},1000,1000]
[3,554,446,0,338,131,85,294,111,41,446,108,0,0,0,0,0,892,108,{"$f":"MAX(H6-E6,0)","v":0},0,0,3,0,0,{"$f":"IF(Chart!$D$21=A6,1,0)","v":0},1000,1000]
[4,892,108,0,357,365,170,63,40,5,108,784,0,0,0,0,0,216,784,{"$f":"MAX(H7-E7,0)","v":0},0,0,3,0,0,{"$f":"IF(Chart!$D$21=A7,1,0)","v":0},1000,1000]
[5,216,784,0,90,17,109,332,231,221,216,0,0,0,0,0,0,432,0,{"$f":"MAX(H8-E8,0)","v":242},214,112,3,0,0,{"$f":"IF(Chart!$D$21=A8,1,0)","v":0},1000,1000]
[6,432,568,0,158,32,242,157,223,188,377,55,0,0,0,0,0,754,55,{"$f":"MAX(H9-E9,0)","v":0},191,0,3,0,0,{"$f":"IF(Chart!$D$21=A9,1,0)","v":0},1000,1000]
[7,754,246,0,374,217,163,100,126,20,246,508,0,0,0,0,0,492,508,{"$f":"MAX(H10-E10,0)","v":0},0,0,3,0,0,{"$f":"IF(Chart!$D$21=A10,1,0)","v":0},1000,1000]
[8,492,508,0,175,261,56,311,135,62,366,126,0,0,0,0,0,732,126,{"$f":"MAX(H11-E11,0)","v":136},0,6,3,0,0,{"$f":"IF(Chart!$D$21=A11,1,0)","v":0},1000,1000]
[9,732,268,0,198,159,375,69,165,34,262,470,0,0,0,0,0,524,470,{"$f":"MAX(H12-E12,0)","v":0},6,0,3,0,0,{"$f":"IF(Chart!$D$21=A12,1,0)","v":0},1000,1000]
[10,524,476,0,363,44,117,246,117,113,403,121,0,0,0,0,0,806,121,{"$f":"MAX(H13-E13,0)","v":0},73,0,3,0,0,{"$f":"IF(Chart!$D$21=A13,1,0)","v":0},1000,1000]
[11,806,194,0,444,250,112,135,12,47,194,612,0,0,0,0,0,388,612,{"$f":"MAX(H14-E14,0)","v":0},0,0,3,0,0,{"$f":"IF(Chart!$D$21=A14,1,0)","v":0},1000,1000]
[12,388,612,0,185,92,111,166,166,280,369,19,0,0,0,0,0,738,19,{"$f":"MAX(H15-E15,0)","v":0},74,169,3,0,0,{"$f":"IF(Chart!$D$21=A15,1,0)","v":0},1000,1000]
[13,738,262,0,240,267,231,181,59,22,262,476,0,0,0,0,0,524,476,{"$f":"MAX(H16-E16,0)","v":0},0,0,3,0,0,{"$f":"IF(Chart!$D$21=A16,1,0)","v":0},1000,1000]
[14,524,476,0,237,88,199,339,56,81,374,150,0,0,0,0,0,748,150,{"$f":"MAX(H17-E17,0)","v":102},0,0,3,0,0,{"$f":"IF(Chart!$D$21=A17,1,0)","v":0},1000,1000]
[15,748,252,0,223,417,108,120,101,31,252,496,0,0,0,0,0,504,496,{"$f":"MAX(H18-E18,0)","v":0},0,0,3,0,0,{"$f":"IF(Chart!$D$21=A18,1,0)","v":0},1000,1000]
[16,504,496,0,207,48,249,189,109,198,435,69,0,0,0,0,0,870,69,{"$f":"MAX(H19-E19,0)","v":0},61,0,3,0,0,{"$f":"IF(Chart!$D$21=A19,1,0)","v":0},1000,1000]
[17,870,130,0,228,173,469,89,36,5,130,740,0,0,0,0,0,260,740,{"$f":"MAX(H20-E20,0)","v":0},0,0,3,0,0,{"$f":"IF(Chart!$D$21=A20,1,0)","v":0},1000,1000]
[18,260,740,0,82,115,63,320,275,145,260,0,0,0,0,0,0,520,0,{"$f":"MAX(H21-E21,0)","v":238},160,82,3,0,0,{"$f":"IF(Chart!$D$21=A21,1,0)","v":0},1000,1000]
[19,520,480,0,255,178,87,359,92,29,376,144,0,0,0,0,0,752,144,{"$f":"MAX(H22-E22,0)","v":104},0,0,3,0,0,{"$f":"IF(Chart!$D$21=A22,1,0)","v":0},1000,1000]
[20,752,248,0,322,291,139,139,73,36,248,504,0,0,0,0,0,496,504,{"$f":"MAX(H23-E23,0)","v":0},0,0,3,0,0,{"$f":"IF(Chart!$D$21=A23,1,0)","v":0},1000,1000]
[21,496,504,0,167,140,189,191,36,277,392,104,0,0,0,0,0,784,104,{"$f":"MAX(H24-E24,0)","v":24},0,88,3,0,0,{"$f":"IF(Chart!$D$21=A24,1,0)","v":0},1000,1000]
[22,784,216,0,523,225,36,152,24,40,212,572,0,0,0,0,0,424,572,{"$f":"MAX(H25-E25,0)","v":0},0,4,3,0,0,{"$f":"IF(Chart!$D$21=A25,1,0)","v":0},1000,1000]
[23,424,576,0,292,95,37,302,244,30,417,7,0,0,0,0,0,834,7,{"$f":"MAX(H26-E26,0)","v":10},149,0,3,0,0,{"$f":"IF(Chart!$D$21=A26,1,0)","v":0},1000,1000]
[24,834,166,0,530,74,230,80,19,67,166,668,0,0,0,0,0,332,668,{"$f":"MAX(H27-E27,0)","v":0},0,0,3,0,0,{"$f":"IF(Chart!$D$21=A27,1,0)","v":0},1000,1000]
[25,332,668,0,112,44,176,263,272,133,289,43,0,0,0,0,0,578,43,{"$f":"MAX(H28-E28,0)","v":151},228,0,3,0,0,{"$f":"IF(Chart!$D$21=A28,1,0)","v":0},1000,1000]
[26,578,422,0,349,61,168,190,65,167,418,160,0,0,0,0,0,836,160,{"$f":"MAX(H29-E29,0)","v":0},4,0,3,0,0,{"$f":"IF(Chart!$D$21=A29,1,0)","v":0},1000,1000]
[27,836,164,0,543,113,180,102,31,31,164,672,0,0,0,0,0,328,672,{"$f":"MAX(H30-E30,0)","v":0},0,0,3,0,0,{"$f":"IF(Chart!$D$21=A30,1,0)","v":0},1000,1000]
[28,328,672,0,173,101,54,180,422,70,328,0,0,0,0,0,0,656,0,{"$f":"MAX(H31-E31,0)","v":7},321,16,3,0,0,{"$f":"IF(Chart!$D$21=A31,1,0)","v":0},1000,1000]
[29,656,344,0,232,151,273,187,30,127,344,312,0,0,0,0,0,688,312,{"$f":"MAX(H32-E32,0)","v":0},0,0,3,0,0,{"$f":"IF(Chart!$D$21=A32,1,0)","v":0},1000,1000]
[30,688,312,0,466,190,32,202,79,31,312,376,0,0,0,0,0,624,376,{"$f":"MAX(H33-E33,0)","v":0},0,0,3,0,0,{"$f":"IF(Chart!$D$21=A33,1,0)","v":0},1000,1000]
[31,624,376,0,364,162,98,116,84,176,298,326,0,0,0,0,0,596,326,{"$f":"MAX(H34-E34,0)","v":0},0,78,3,0,0,{"$f":"IF(Chart!$D$21=A34,1,0)","v":0},1000,1000]
[32,596,404,0,442,128,26,186,142,76,340,256,0,0,0,0,0,680,256,{"$f":"MAX(H35-E35,0)","v":0},14,50,3,0,0,{"$f":"IF(Chart!$D$21=A35,1,0)","v":0},1000,1000]
[33,680,320,0,367,216,97,85,143,92,320,360,0,0,0,0,0,640,360,{"$f":"MAX(H36-E36,0)","v":0},0,0,3,0,0,{"$f":"IF(Chart!$D$21=A36,1,0)","v":0},1000,1000]
[34,640,360,0,479,134,27,176,75,109,278,362,0,0,0,0,0,556,362,{"$f":"MAX(H37-E37,0)","v":0},0,82,3,0,0,{"$f":"IF(Chart!$D$21=A37,1,0)","v":0},1000,1000]
[35,556,444,0,193,147,216,214,157,73,413,143,0,0,0,0,0,826,143,{"$f":"MAX(H38-E38,0)","v":21},10,0,3,0,0,{"$f":"IF(Chart!$D$21=A38,1,0)","v":0},1000,1000]
[36,826,174,0,567,197,62,129,18,27,174,652,0,0,0,0,0,348,652,{"$f":"MAX(H39-E39,0)","v":0},0,0,3,0,0,{"$f":"IF(Chart!$D$21=A39,1,0)","v":0},1000,1000]
[37,348,652,0,183,141,24,314,215,123,348,0,0,0,0,0,0,696,0,{"$f":"MAX(H40-E40,0)","v":131},74,99,3,0,0,{"$f":"IF(Chart!$D$21=A40,1,0)","v":0},1000,1000]
[38,696,304,0,249,255,192,168,116,20,304,392,0,0,0,0,0,608,392,{"$f":"MAX(H41-E41,0)","v":0},0,0,3,0,0,{"$f":"IF(Chart!$D$21=A41,1,0)","v":0},1000,1000]
[39,608,392,0,294,204,110,164,95,133,369,239,0,0,0,0,0,738,239,{"$f":"MAX(H42-E42,0)","v":0},0,23,3,0,0,{"$f":"IF(Chart!$D$21=A42,1,0)","v":0},1000,1000]
[40,738,261,1,291,367,80,73,124,64,261,477,1,0,1,0,2,522,476,{"$f":"MAX(H43-E43,0)","v":0},0,0,3,0,0,{"$f":"IF(Chart!$D$21=A43,1,0)","v":1},1000,1000]
[41,522,476,2,271,203,48,152,70,254,270,252,2,0,2,0,4,540,250,{"$f":"MAX(H44-E44,0)","v":0},0,206,3,0,0,{"$f":"IF(Chart!$D$21=A44,1,0)","v":0},1000,1000]
[42,540,456,4,336,50,154,329,36,91,456,84,4,0,4,0,8,912,80,{"$f":"MAX(H45-E45,0)","v":0},0,0,3,0,0,{"$f":"IF(Chart!$D$21=A45,1,0)","v":0},1000,1000]
[43,912,80,8,323,410,179,34,12,34,80,832,8,0,8,0,16,160,824,{"$f":"MAX(H46-E46,0)","v":0},0,0,3,0,0,{"$f":"IF(Chart!$D$21=A46,1,0)","v":0},1000,1000]
[44,160,824,16,64,42,54,240,205,379,160,0,0,8,8,8,16,312,8,{"$f":"MAX(H47-E47,0)","v":176},163,325,3,0,0,{"$f":"IF(Chart!$D$21=A47,1,0)","v":0},1000,1000]
[45,312,672,16,99,142,71,306,84,282,254,58,16,0,16,0,32,508,42,{"$f":"MAX(H48-E48,0)","v":207},0,211,3,0,0,{"$f":"IF(Chart!$D$21=A48,1,0)","v":0},1000,1000]
[46,508,460,32,241,185,82,137,227,96,404,104,32,0,32,0,64,808,72,{"$f":"MAX(H49-E49,0)","v":0},42,14,3,0,0,{"$f":"IF(Chart!$D$21=A49,1,0)","v":0},1000,1000]
[47,808,128,64,223,66,519,69,48,11,128,680,64,0,64,0,128,256,616,{"$f":"MAX(H50-E50,0)","v":0},0,0,3,0,0,{"$f":"IF(Chart!$D$21=A50,1,0)","v":0},1000,1000]
[48,256,616,128,133,28,95,292,166,158,256,0,0,72,72,56,144,440,56,{"$f":"MAX(H51-E51,0)","v":159},138,63,3,0,0,{"$f":"IF(Chart!$D$21=A51,1,0)","v":0},1000,1000]
[49,440,416,144,114,245,81,196,159,61,334,106,106,25,131,13,262,643,13,{"$f":"MAX(H52-E52,0)","v":82},0,0,3,0,0,{"$f":"IF(Chart!$D$21=A52,1,0)","v":0},1000,1000]
[50,643,95,262,246,138,259,44,45,6,95,548,262,0,262,0,524,190,286,{"$f":"MAX(H53-E53,0)","v":0},0,0,3,0,0,{"$f":"IF(Chart!$D$21=A53,1,0)","v":0},1000,1000]
[51,190,286,524,51,73,66,210,64,12,127,63,63,71,134,390,268,183,390,{"$f":"MAX(H54-E54,0)","v":159},0,0,3,0,0,{"$f":"IF(Chart!$D$21=A54,1,0)","v":0},1000,1000]
[52,183,549,268,95,65,23,279,203,67,183,0,0,131,131,137,262,235,137,{"$f":"MAX(H55-E55,0)","v":184},138,44,3,0,0,{"$f":"IF(Chart!$D$21=A55,1,0)","v":0},1000,1000]
[53,235,503,262,78,60,97,167,102,234,235,0,0,167,167,95,334,303,95,{"$f":"MAX(H56-E56,0)","v":89},42,137,3,0,0,{"$f":"IF(Chart!$D$21=A56,1,0)","v":0},1000,1000]
[54,303,363,334,147,82,74,259,65,39,251,52,52,136,188,146,376,366,146,{"$f":"MAX(H57-E57,0)","v":112},0,0,3,0,0,{"$f":"IF(Chart!$D$21=A57,1,0)","v":0},1000,1000]
[55,366,258,376,126,33,207,130,26,102,254,112,112,147,259,117,518,361,117,{"$f":"MAX(H58-E58,0)","v":4},0,0,3,0,0,{"$f":"IF(Chart!$D$21=A58,1,0)","v":0},1000,1000]
[56,361,121,518,198,45,118,53,27,41,121,240,240,90,330,188,660,152,188,{"$f":"MAX(H59-E59,0)","v":0},0,0,3,0,0,{"$f":"IF(Chart!$D$21=A59,1,0)","v":0},1000,1000]
[57,152,188,660,63,38,51,50,21,117,122,30,30,85,115,545,230,159,545,{"$f":"MAX(H60-E60,0)","v":0},0,66,3,0,0,{"$f":"IF(Chart!$D$21=A60,1,0)","v":0},1000,1000]
[58,159,611,230,64,17,78,301,33,277,159,0,0,107,107,123,214,211,123,{"$f":"MAX(H61-E61,0)","v":237},16,199,3,0,0,{"$f":"IF(Chart!$D$21=A61,1,0)","v":0},1000,1000]
[59,211,575,214,87,27,97,315,108,152,211,0,0,111,111,103,222,311,103,{"$f":"MAX(H62-E62,0)","v":228},81,55,3,0,0,{"$f":"IF(Chart!$D$21=A62,1,0)","v":0},1000,1000]
[60,311,467,222,176,81,54,228,84,155,311,0,0,149,149,73,298,473,73,{"$f":"MAX(H63-E63,0)","v":52},3,101,3,0,0,{"$f":"IF(Chart!$D$21=A63,1,0)","v":0},1000,1000]
[61,473,229,298,181,163,129,65,27,137,221,252,252,31,283,15,566,411,15,{"$f":"MAX(H64-E64,0)","v":0},0,8,3,0,0,{"$f":"IF(Chart!$D$21=A64,1,0)","v":0},1000,1000]
[62,411,23,566,256,135,20,12,5,6,23,388,388,13,401,165,802,33,165,{"$f":"MAX(H65-E65,0)","v":0},0,0,3,0,0,{"$f":"IF(Chart!$D$21=A65,1,0)","v":0},1000,1000]
[63,33,165,802,16,5,12,60,19,86,33,0,0,19,19,783,38,47,783,{"$f":"MAX(H66-E66,0)","v":44},14,74,3,0,0,{"$f":"IF(Chart!$D$21=A66,1,0)","v":0},1000,1000]
[64,47,915,38,24,9,14,683,137,95,47,0,0,25,25,13,50,69,13,{"$f":"MAX(H67-E67,0)","v":659},128,81,3,0,0,{"$f":"IF(Chart!$D$21=A67,1,0)","v":0},1000,1000]
[65,69,881,50,37,10,22,332,292,257,69,0,0,25,25,25,50,113,25,{"$f":"MAX(H68-E68,0)","v":295},282,235,3,0,0,{"$f":"IF(Chart!$D$21=A68,1,0)","v":0},1000,1000]
[{"$f":"A68+1","v":66},113,837,50,52,54,7,576,50,211,109,4,4,26,30,20,60,192,20,{"$f":"MAX(H69-E69,0)","v":524},0,204,3,0,0,{"$f":"IF(Chart!$D$21=A69,1,0)","v":0},1000,1000]
[67,192,748,60,135,39,18,267,229,252,192,0,0,35,35,25,70,349,25,{"$f":"MAX(H70-E70,0)","v":132},190,234,3,0,0,{"$f":"IF(Chart!$D$21=A70,1,0)","v":0},1000,1000]
[68,349,581,70,236,13,100,316,165,100,349,0,0,37,37,33,74,661,33,{"$f":"MAX(H71-E71,0)","v":80},152,0,3,0,0,{"$f":"IF(Chart!$D$21=A71,1,0)","v":0},1000,1000]
[69,661,265,74,266,77,318,69,104,92,238,423,74,0,74,0,148,476,349,{"$f":"MAX(H72-E72,0)","v":0},27,0,3,0,0,{"$f":"IF(Chart!$D$21=A72,1,0)","v":0},1000,1000]
[70,476,376,148,312,93,71,252,111,13,358,118,118,20,138,10,276,696,10,{"$f":"MAX(H73-E73,0)","v":0},18,0,3,0,0,{"$f":"IF(Chart!$D$21=A73,1,0)","v":0},1000,1000]
[71,696,28,276,467,49,180,18,8,2,28,668,276,0,276,0,552,56,392,{"$f":"MAX(H74-E74,0)","v":0},0,0,3,0,0,{"$f":"IF(Chart!$D$21=A74,1,0)","v":0},1000,1000]
[72,56,392,552,27,17,12,159,59,174,56,0,0,33,33,519,66,79,519,{"$f":"MAX(H75-E75,0)","v":132},42,162,3,0,0,{"$f":"IF(Chart!$D$21=A75,1,0)","v":0},1000,1000]
[73,79,855,66,20,46,13,557,146,152,79,0,0,49,49,17,98,109,17,{"$f":"MAX(H76-E76,0)","v":537},100,139,3,0,0,{"$f":"IF(Chart!$D$21=A76,1,0)","v":0},1000,1000]
[74,109,793,98,51,25,33,203,393,197,109,0,0,71,71,27,142,147,27,{"$f":"MAX(H77-E77,0)","v":152},368,164,3,0,0,{"$f":"IF(Chart!$D$21=A77,1,0)","v":0},1000,1000]
[75,147,711,142,61,61,25,358,66,287,147,0,0,82,82,60,164,212,60,{"$f":"MAX(H78-E78,0)","v":297},5,262,3,0,0,{"$f":"IF(Chart!$D$21=A78,1,0)","v":0},1000,1000]
[76,212,624,164,132,23,57,230,191,203,212,0,0,117,117,47,234,307,47,{"$f":"MAX(H79-E79,0)","v":98},168,146,3,0,0,{"$f":"IF(Chart!$D$21=A79,1,0)","v":0},1000,1000]
[77,307,459,234,147,88,72,278,132,49,284,23,23,114,137,97,274,454,97,{"$f":"MAX(H80-E80,0)","v":131},44,0,3,0,0,{"$f":"IF(Chart!$D$21=A80,1,0)","v":0},1000,1000]
[78,454,272,274,292,36,126,197,58,17,250,204,204,38,242,32,484,462,32,{"$f":"MAX(H81-E81,0)","v":0},22,0,3,0,0,{"$f":"IF(Chart!$D$21=A81,1,0)","v":0},1000,1000]
[79,462,54,484,151,120,191,36,8,10,54,408,408,39,447,37,894,69,37,{"$f":"MAX(H82-E82,0)","v":0},0,0,3,0,0,{"$f":"IF(Chart!$D$21=A82,1,0)","v":0},1000,1000]
[80,69,37,894,40,17,12,26,3,8,37,32,32,21,53,841,106,53,841,{"$f":"MAX(H83-E83,0)","v":0},0,0,3,0,0,{"$f":"IF(Chart!$D$21=A83,1,0)","v":0},1000,1000]
[81,53,841,106,33,16,4,381,341,119,53,0,0,39,39,67,78,67,67,{"$f":"MAX(H84-E84,0)","v":348},325,115,3,0,0,{"$f":"IF(Chart!$D$21=A84,1,0)","v":0},1000,1000]
[82,67,855,78,46,18,3,611,142,102,67,0,0,45,45,33,90,89,33,{"$f":"MAX(H85-E85,0)","v":565},124,99,3,0,0,{"$f":"IF(Chart!$D$21=A85,1,0)","v":0},1000,1000]
[83,89,821,90,57,8,24,536,71,214,89,0,0,46,46,44,92,132,44,{"$f":"MAX(H86-E86,0)","v":479},63,190,3,0,0,{"$f":"IF(Chart!$D$21=A86,1,0)","v":0},1000,1000]
[84,132,776,92,46,49,37,354,269,153,132,0,0,64,64,28,128,200,28,{"$f":"MAX(H87-E87,0)","v":308},220,116,3,0,0,{"$f":"IF(Chart!$D$21=A87,1,0)","v":0},1000,1000]
[85,200,672,128,134,26,40,398,134,140,200,0,0,86,86,42,172,314,42,{"$f":"MAX(H88-E88,0)","v":264},108,100,3,0,0,{"$f":"IF(Chart!$D$21=A88,1,0)","v":0},1000,1000]
[86,314,514,172,146,106,62,213,135,166,314,0,0,125,125,47,250,503,47,{"$f":"MAX(H89-E89,0)","v":67},29,104,3,0,0,{"$f":"IF(Chart!$D$21=A89,1,0)","v":0},1000,1000]
[87,503,247,250,299,171,33,79,120,48,232,271,250,0,250,0,500,464,21,{"$f":"MAX(H90-E90,0)","v":0},0,15,3,0,0,{"$f":"IF(Chart!$D$21=A90,1,0)","v":0},1000,1000]
[88,464,36,500,207,29,228,10,14,12,36,428,428,23,451,49,902,49,49,{"$f":"MAX(H91-E91,0)","v":0},0,0,3,0,0,{"$f":"IF(Chart!$D$21=A91,1,0)","v":0},1000,1000]
[89,49,49,902,20,18,11,26,10,13,41,8,8,26,34,868,68,56,868,{"$f":"MAX(H92-E92,0)","v":6},0,2,3,0,0,{"$f":"IF(Chart!$D$21=A92,1,0)","v":0},1000,1000]
[90,56,876,68,14,10,32,419,330,127,56,0,0,35,35,33,70,77,33,{"$f":"MAX(H93-E93,0)","v":405},320,95,3,0,0,{"$f":"IF(Chart!$D$21=A93,1,0)","v":0},1000,1000]
[91,77,853,70,26,25,26,514,210,129,77,0,0,45,45,25,90,109,25,{"$f":"MAX(H94-E94,0)","v":488},185,103,3,0,0,{"$f":"IF(Chart!$D$21=A94,1,0)","v":0},1000,1000]
[92,109,801,90,49,48,12,480,231,90,109,0,0,65,65,25,130,153,25,{"$f":"MAX(H95-E95,0)","v":431},183,78,3,0,0,{"$f":"IF(Chart!$D$21=A95,1,0)","v":0},1000,1000]
[93,153,717,130,46,70,37,473,177,67,153,0,0,81,81,49,162,225,49,{"$f":"MAX(H96-E96,0)","v":427},107,30,3,0,0,{"$f":"IF(Chart!$D$21=A96,1,0)","v":0},1000,1000]
[94,225,613,162,75,54,96,406,145,62,191,34,34,77,111,51,222,305,51,{"$f":"MAX(H97-E97,0)","v":331},91,0,3,0,0,{"$f":"IF(Chart!$D$21=A97,1,0)","v":0},1000,1000]
[95,305,473,222,124,115,66,157,119,197,305,0,0,113,113,109,226,497,109,{"$f":"MAX(H98-E98,0)","v":33},4,131,3,0,0,{"$f":"IF(Chart!$D$21=A98,1,0)","v":0},1000,1000]
[96,497,277,226,314,59,124,103,128,46,208,289,226,0,226,0,452,416,63,{"$f":"MAX(H99-E99,0)","v":0},69,0,3,0,0,{"$f":"IF(Chart!$D$21=A99,1,0)","v":0},1000,1000]
[97,416,132,452,310,44,62,41,76,15,100,316,316,50,366,86,732,150,86,{"$f":"MAX(H100-E100,0)","v":0},32,0,3,0,0,{"$f":"IF(Chart!$D$21=A100,1,0)","v":0},1000,1000]
[98,150,118,732,95,13,42,42,24,52,97,53,53,65,118,614,236,129,614,{"$f":"MAX(H101-E101,0)","v":0},11,10,3,0,0,{"$f":"IF(Chart!$D$21=A101,1,0)","v":0},1000,1000]
[99,{"$f":"R101","v":129},{"$f":"SUM(S101:V101)-Z102","v":635},{"$f":"Q101+Z102","v":236},{"$f":"INT(RANDBETWEEN(B102*0.25,B102*0.75))","v":47},{"$f":"INT(RANDBETWEEN((B102-E102)*0.1,(B102-E102)*0.9))","v":39},{"$f":"B102-E102-F102","v":43},{"$f":"INT(RANDBETWEEN(C102*0.25,C102*0.75))*(1-X102)","v":319},{"$f":"INT(RANDBETWEEN((C102-H102)*0.1,(C102-H102)*0.9))*(1-Y102)","v":86},{"$f":"C102-H102-I102","v":230},{"$f":"MIN(E102,H102)+MIN(F102,I102)+MIN(G102,J102)","v":129},{"$f":"B102-K102","v":0},{"$f":"MIN(D102,L102)","v":0},{"$f":"RANDBETWEEN(MIN(D102-M102,K102)*0.5,MIN(D102-M102,K102)*0.75)","v":94},{"$f":"MIN(D102,N102+L102)","v":94},{"$f":"MAX(D102-O102,0)","v":142},{"$f":"O102+D102-P102","v":188},{"$f":"B102+K102-L102-N102","v":164},{"$f":"L102-M102+P102","v":142},{"$f":"MAX(H102-E102,0)","v":272},{"$f":"MAX(I102-F102,0)","v":47},{"$f":"MAX(J102-G102,0)","v":187},3,0,0,{"$f":"IF(Chart!$D$21=A102,1,0)","v":0}]
[100,164,648,188,98,15,51,477,34,137,164,0,0,96,96,92,192,232,92,379,19,86,3,0,0,{"$f":"IF(Chart!$D$21=A103,1,0)","v":0},1000,1000]